Workbook

Sheet Scoring Methodology
A1: Interpretation | B1: Score
A2: Excellent • An excellent response provided, clearly demonstrating a very high level of understanding of the contract requirements. • The response inspired an extremely high level of confidence in the Candidate’s understanding of the contract requirements. • No weaknesses or concerns. | B2: 5
A3: Very Good • A very good response provided, demonstrating a very good level of understanding of the contract requirements. • The response inspired a very good level of confidence in the Candidate’s understanding of the contract requirements. • Strengths far outweighed any weaknesses in the response. | B3: 4
A4: Good • A good response provided, demonstrating a good level of understanding of the contract requirements. • The response inspired a good level of confidence in the Candidate’s understanding of the contract requirements. • Strengths outweighed any weaknesses in the response in most but not all respects. | B4: 3
A5: Satisfactory • A satisfactory response provided, outlining a satisfactory level of understanding of the contract requirements. • The response inspired a satisfactory level of understanding of the contract requirements. • Strengths marginally outweighed the weaknesses in the response. | B5: 2
A6: Limited • A limited response provided, outlining a limited understanding of the contract requirements. • The response inspired a low level of confidence in the Candidate’s understanding of the contract requirements. • Weaknesses far outweighed any strength in the response or contained significant omissions or concerns. | B6: 1
A7: Unacceptable • No response or unacceptable or insufficient information provided. • Response fails to meet the requirements with no relevant detail provided to demonstrate any understanding of the contract requirements. • No strong aspects to the response. | B7: 0

Sheet Stage 1 Evaluation
A1: Title:
A2: Stage 1 Evaluation Criteria | B2: Evaluation Method | AA2: Yes
A3: Section A - Supplier Acceptability | B3: Pass / Fail | AA3: No
A4: Section B - Economic / Financial Standing / Insurances | B4: Pass / Fail | AA4: Pass
A5: Section C - Capacity & Capability | B5: Pass / Fail | AA5: Fail
A6: Section D - Management | B6: Pass / Fail
A7: Section E - Equal Opportunities | B7: Pass / Fail
A8: Section F - Sustainability | B8: Pass / Fail
A9: Section G - Health & Safety | B9: Pass / Fail
A10: Section G - Additional Health & Safety Questions | B10: Pass / Fail
A11: Section H - Forms | B11: Pass / Fail
A12: Section H - Acceptance of T&Cs (NEC form of contract) | B12: Pass / Fail
A13: Progress to Stage 2 Evaluation | C13: =IF(AND(C3>="Pass",C4>="Pass", C5>="Pass", C6>="Pass", C7>="Pass", C8>="Pass", C9>="Pass", C10>="Pass", C12>="Pass", C3>="Fail", C4>="Fail", C5>="Fail", C6>="Fail", C7>="Fail", C8>="Fail", C9>="Fail", C10>="Fail", C12>="Fail"), "Yes", "No") -> No | D13: =IF(AND(D3>="Pass",D4>="Pass", D5>="Pass", D6>="Pass", D7>="Pass", D8>="Pass", D9>="Pass", D10>="Pass", D12>="Pass", D3>="Fail", D4>="Fail", D5>="Fail", D6>="Fail", D7>="Fail", D8>="Fail", D9>="Fail", D10>="Fail", D12>="Fail"), "Yes", "No") -> No | E13: =IF(AND(E3>="Pass",E4>="Pass", E5>="Pass", E6>="Pass", E7>="Pass", E8>="Pass", E9>="Pass", E10>="Pass", E12>="Pass", E3>="Fail", E4>="Fail", E5>="Fail", E6>="Fail", E7>="Fail", E8>="Fail", E9>="Fail", E10>="Fail", E12>="Fail"), "Yes", "No") -> No | F13: =IF(AND(F3>="Pass",F4>="Pass", F5>="Pass", F6>="Pass", F7>="Pass", F8>="Pass", F9>="Pass", F10>="Pass", F12>="Pass", F3>="Fail", F4>="Fail", F5>="Fail", F6>="Fail", F7>="Fail", F8>="Fail", F9>="Fail", F10>="Fail", F12>="Fail"), "Yes", "No") -> No | G13: =IF(AND(G3>="Pass",G4>="Pass", G5>="Pass", G6>="Pass", G7>="Pass", G8>="Pass", G9>="Pass", G10>="Pass", G12>="Pass", G3>="Fail", G4>="Fail", G5>="Fail", G6>="Fail", G7>="Fail", G8>="Fail", G9>="Fail", G10>="Fail", G12>="Fail"), "Yes", "No") -> No | H13: =IF(AND(H3>="Pass",H4>="Pass", H5>="Pass", H6>="Pass", H7>="Pass", H8>="Pass", H9>="Pass", H10>="Pass", H12>="Pass", H3>="Fail", H4>="Fail", H5>="Fail", H6>="Fail", H7>="Fail", H8>="Fail", H9>="Fail", H10>="Fail", H12>="Fail"), "Yes", "No") -> No

Sheet Stage 2 Evaluation
A1: Title: | D1: Weightings: Price 60% / Quality 40%
A2: Quality Section (40%)
A3: Quality Sub-Criteria | B3: Weighting (%) | C3: Scores | D3: ='Stage 1 Evaluation'!C2 -> 0 | E3: ='Stage 1 Evaluation'!D2 -> 0 | F3: ='Stage 1 Evaluation'!E2 -> 0 | G3: ='Stage 1 Evaluation'!F2 -> 0 | H3: ='Stage 1 Evaluation'!G2 -> 0 | I3: ='Stage 1 Evaluation'!H2 -> 0
A4: Sub Criteria 1 - Alignment to Brief | B4: 0.3 | C4: Score (0-5)
C5: Weighted Score | D5: =(D4*B4)/5*100 -> 0 | E5: =(E4*B4)/5*100 -> 0 | F5: =(F4*B4)/5*100 -> 0 | G5: =(G4*B4)/5*100 -> 0 | H5: =(H4*B4)/5*100 -> 0 | I5: =(I4*B4)/5*100 -> 0
A6: Sub Criteria 2 - Quality of Product (Technical Merit/Aesthetic/Functional | B6: 0.2 | C6: Score (0-5)
C7: Weighted Score | D7: =(D6*B6)/5*100 -> 0 | E7: =(E6*B6)/5*100 -> 0 | F7: =(F6*B6)/5*100 -> 0 | G7: =(G6*B6)/5*100 -> 0 | H7: =(H6*B6)/5*100 -> 0 | I7: =(I6*B6)/5*100 -> 0
A8: Sub Criteria 3 - Accessibility of Design to Users | B8: 0.2 | C8: Score (0-5)
C9: Weighted Score | D9: =(D8*B8)/5*100 -> 0 | E9: =(E8*B8)/5*100 -> 0 | F9: =(F8*B8)/5*100 -> 0 | G9: =(G8*B8)/5*100 -> 0 | H9: =(H8*B8)/5*100 -> 0 | I9: =(I8*B8)/5*100 -> 0
A10: Sub Criteria 4 - Consultancy Support / Contractor Support (Sub-Contractor Management?) | B10: 0.15 | C10: Score (0-5)
C11: Weighted Score | D11: =(D10*B10)/5*100 -> 0 | E11: =(E10*B10)/5*100 -> 0 | F11: =(F10*B10)/5*100 -> 0 | G11: =(G10*B10)/5*100 -> 0 | H11: =(H10*B10)/5*100 -> 0 | I11: =(I10*B10)/5*100 -> 0
A12: Sub Criteria 5 - Value for Money (Overall Quality of Design/Product/Contractor Support etc.) | B12: 0.15 | C12: Score (0-5)
C13: Weighted Score | D13: =(D12*B12)/5*100 -> 0 | E13: =(E12*B12)/5*100 -> 0 | F13: =(F12*B12)/5*100 -> 0 | G13: =(G12*B12)/5*100 -> 0 | H13: =(H12*B12)/5*100 -> 0 | I13: =(I12*B12)/5*100 -> 0
A14: Sub Criteria 6 - Aftersales, Warranties & Technical Assistance | B14: 0.15 | C14: Score (0-5)
C15: Weighted Score | D15: =(D14*B14)/5*100 -> 0 | E15: =(E14*B14)/5*100 -> 0 | F15: =(F14*B14)/5*100 -> 0 | G15: =(G14*B14)/5*100 -> 0 | H15: =(H14*B14)/5*100 -> 0 | I15: =(I14*B14)/5*100 -> 0
A16: Sub Criteria 7 - Experience & Qualifications of Staff / Contractor Case Studies/References | B16: 0.15 | C16: Score (0-5)
C17: Weighted Score | D17: =(D16*B16)/5*100 -> 0 | E17: =(E16*B16)/5*100 -> 0 | F17: =(F16*B16)/5*100 -> 0 | G17: =(G16*B16)/5*100 -> 0 | H17: =(H16*B16)/5*100 -> 0 | I17: =(I16*B16)/5*100 -> 0
A18: Sub Criteria 8 - Level of Ongoing Maintenance / (Complimentary Maintenance Checks as part of Contractor Warranty see 6 above)? | B18: 0.15 | C18: Score (0-5)
C19: Weighted Score | D19: =(D18*B18)/5*100 -> 0 | E19: =(E18*B18)/5*100 -> 0 | F19: =(F18*B18)/5*100 -> 0 | G19: =(G18*B18)/5*100 -> 0 | H19: =(H18*B18)/5*100 -> 0 | I19: =(I18*B18)/5*100 -> 0
A20: Total Weighting | B20: =SUM(B4:B19) -> 1.45 | C20: Total Quality Score | D20: =SUM(D5,D7,D9,D11,D15,D13,D17,D19) -> 0 | E20: =SUM(E5,E7,E9,E11,E15,E13,E17,E19) -> 0 | F20: =SUM(F5,F7,F9,F11,F15,F13,F17,F19) -> 0 | G20: =SUM(G5,G7,G9,G11,G15,G13,G17,G19) -> 0 | H20: =SUM(H5,H7,H9,H11,H15,H13,H17,H19) -> 0 | I20: =SUM(I5,I7,I9,I11,I15,I13,I17,I19) -> 0
A21: Quality Points (out of 100) | D21: =D20/MAX($D$20:$I$20)*100 -> #DIV/0! | E21: =E20/MAX($D$20:$I$20)*100 -> #DIV/0! | F21: =F20/MAX($D$20:$I$20)*100 -> #DIV/0! | G21: =G20/MAX($D$20:$I$20)*100 -> #DIV/0! | H21: =H20/MAX($D$20:$I$20)*100 -> #DIV/0! | I21: =I20/MAX($D$20:$I$20)*100 -> #DIV/0!
A22: Quality Weighting | D22: 0.8 | E22: 0.8 | F22: 0.8 | G22: 0.8 | H22: 0.8 | I22: 0.8
A23: Weighted Quality Score | D23: =D21*D22 -> #DIV/0! | E23: =E21*E22 -> #DIV/0! | F23: =F21*F22 -> #DIV/0! | G23: =G21*G22 -> #DIV/0! | H23: =H21*H22 -> #DIV/0! | I23: =I21*I22 -> #DIV/0!
A25: Price Section (60%)
A26: Price
A27: Price Points (out of 100) | D27: =MIN($D$26:$I$26)*100/D26 -> #DIV/0! | E27: =MIN($D$26:$I$26)*100/E26 -> #DIV/0! | F27: =MIN($D$26:$I$26)*100/F26 -> #DIV/0! | G27: =MIN($D$26:$I$26)*100/G26 -> #DIV/0! | H27: =MIN($D$26:$I$26)*100/H26 -> #DIV/0! | I27: =MIN($D$26:$I$26)*100/I26 -> #DIV/0!
A28: Price Weighting | D28: 0.2 | E28: 0.2 | F28: 0.2 | G28: 0.2 | H28: 0.2 | I28: 0.2
A29: Weighted Price Score | D29: =D27*D28 -> #DIV/0! | E29: =E27*E28 -> #DIV/0! | F29: =F27*F28 -> #DIV/0! | G29: =G27*G28 -> #DIV/0! | H29: =H27*H28 -> #DIV/0! | I29: =I27*I28 -> #DIV/0!
A30: Total Weighted Score (Price + Quality) | D30: =D23+D29 -> #DIV/0! | E30: =E23+E29 -> #DIV/0! | F30: =F23+F29 -> #DIV/0! | G30: =G23+G29 -> #DIV/0! | H30: =H23+H29 -> #DIV/0! | I30: =I23+I29 -> #DIV/0!
A31: Overall Ranking | D31: =RANK(D30,$D$30:$I$30) -> #DIV/0! | E31: =RANK(E30,$D$30:$I$30) -> #DIV/0! | F31: =RANK(F30,$D$30:$I$30) -> #DIV/0! | G31: =RANK(G30,$D$30:$I$30) -> #DIV/0! | H31: =RANK(H30,$D$30:$I$30) -> #DIV/0! | I31: =RANK(I30,$D$30:$I$30) -> #DIV/0!
